BEGIN:VCALENDAR
VERSION:2.0
PRODID:-//Comunidad de Pensamiento Complejo - ECPv6.2.9//NONSGML v1.0//EN
CALSCALE:GREGORIAN
METHOD:PUBLISH
X-ORIGINAL-URL:https://pensamientocomplejo.org
X-WR-CALDESC:Eventos para Comunidad de Pensamiento Complejo
REFRESH-INTERVAL;VALUE=DURATION:PT1H
X-Robots-Tag:noindex
X-PUBLISHED-TTL:PT1H
BEGIN:VTIMEZONE
TZID:America/Sao_Paulo
BEGIN:STANDARD
TZOFFSETFROM:-0300
TZOFFSETTO:-0300
TZNAME:-03
DTSTART:20220101T000000
END:STANDARD
END:VTIMEZONE
BEGIN:VEVENT
DTSTART;VALUE=DATE:20221124
DTEND;VALUE=DATE:20221126
DTSTAMP:20260422T195144
CREATED:20220602T152254Z
LAST-MODIFIED:20220602T152254Z
UID:2029-1669248000-1669420799@pensamientocomplejo.org
SUMMARY:I Congreso Internacional "Innovación y Desarrollo en Sistemas Complejos"
DESCRIPTION:Actividad: Invitación a participar del I CONGRESO INTERNACIONAL “INNOVACIÓN Y DESARROLLO EN SISTEMAS COMPLEJOS”\nOrganiza: Instituto de Gestión e Industria Sede Puerto Montt Universidad Austral de Chile.\nPrimera fecha: Recepción de resúmenes: 30 junio 2022.\n————————————————————————–\nEstimadas (os) profesores:\nTenemos el agrado de invitarlos a participar de nuestro I CONGRESO INTERNACIONAL “INNOVACIÓN Y DESARROLLO EN SISTEMAS COMPLEJOS” (PUERTO MONTT\, 24 Y 25 DE NOVIEMBRE DE 2022).\nEsta es nuestra primera circular y pronto vendrán las siguientes\, y esperamos que puedan darse el espacio para compartir experiencias y ponencias en este importante evento que realizará el Instituto de Gestión e Industria.\nEsperando buena acogida.\nCordiales saludos y mucho éxito.\nComisión Organizadora \nI Congreso Internacional de Innovación y Desarrollo en Sistemas Complejos \nPuerto Montt 2022 \nWeb: http://www.pmontt.uach.cl/?post_type=agenda&p=28753 \nConvocatoria. 2022-SistemasComplejos-Chile
URL:https://pensamientocomplejo.org/evento/i-congreso-internacional-innovacion-y-desarrollo-en-sistemas-complejos/
LOCATION:Instituto de Gestión e Industria Sede Puerto Montt Universidad Austral de Chile\, Chile
END:VEVENT
END:VCALENDAR