BEGIN:VCALENDAR
VERSION:2.0
PRODID:-//Comunidad de Pensamiento Complejo - ECPv6.2.9//NONSGML v1.0//EN
CALSCALE:GREGORIAN
METHOD:PUBLISH
X-ORIGINAL-URL:https://pensamientocomplejo.org
X-WR-CALDESC:Eventos para Comunidad de Pensamiento Complejo
REFRESH-INTERVAL;VALUE=DURATION:PT1H
X-Robots-Tag:noindex
X-PUBLISHED-TTL:PT1H
BEGIN:VTIMEZONE
TZID:America/New_York
BEGIN:DAYLIGHT
TZOFFSETFROM:-0500
TZOFFSETTO:-0400
TZNAME:EDT
DTSTART:20220313T070000
END:DAYLIGHT
BEGIN:STANDARD
TZOFFSETFROM:-0400
TZOFFSETTO:-0500
TZNAME:EST
DTSTART:20221106T060000
END:STANDARD
END:VTIMEZONE
BEGIN:VEVENT
DTSTART;TZID=America/New_York:20220908T170000
DTEND;TZID=America/New_York:20220908T190000
DTSTAMP:20260423T105947
CREATED:20220720T190159Z
LAST-MODIFIED:20220720T190307Z
UID:2102-1662656400-1662663600@pensamientocomplejo.org
SUMMARY:Sistemas Argumentativos en el Razonamiento Computacional (Sesión 2)
DESCRIPTION:“Sistemas Argumentativos en el Razonamiento Computacional”\, a cargo del Dr. Guillermo R. Simari\,\n4 de agosto y 8 de septiembre\, 5 pm (hora México)\, vía zoom. Información en el flyer adjunto. \n \nEvento en el marco del Seminario de Ciencias Sociales Computacionales y Complejidad\, Red Iberoamericana de Sociología Computacional.\nSistemas Argumentativos en el Razonamiento Computacional Argumentación es uno de los procesos de razonamiento que siguen el patrón natural del razonamiento de sentido común; como tal\, es no solo razonamiento interno\, sino que también es razonamiento compartido entre una comunidad de agentes. El razonamiento es parte de toda actividad humana que requiera coherencia\, justificación e inteligencia\, incluyendo el requerir razones que sustenten el comportamiento exhibido por un agente. En estas dos charlas introduciremos las ideas fundamentales del área de argumentación. Esta área es compleja y contiene una variedad enorme de propuestas que han tenido desarrollo en el último cuarto del siglo pasado y que han continuado con fuerza hasta el presente. Nuestro interés se dirigirá a presentar los elementos del área útiles para modelar y realizar computacionalmente el razonamiento de un agente autónomo y brindándole las capacidades necesarias para habilitar esa autonomía.
URL:https://pensamientocomplejo.org/evento/sistemas-argumentativos-en-el-razonamiento-computacional-sesion-2/
LOCATION:Simposio Virtual (en línea)\, San Luis Potosí\, Mexico
CATEGORIES:Seminario
END:VEVENT
END:VCALENDAR