BEGIN:VCALENDAR
VERSION:2.0
PRODID:-//Comunidad de Pensamiento Complejo - ECPv6.2.9//NONSGML v1.0//EN
CALSCALE:GREGORIAN
METHOD:PUBLISH
X-ORIGINAL-URL:https://pensamientocomplejo.org
X-WR-CALDESC:Eventos para Comunidad de Pensamiento Complejo
REFRESH-INTERVAL;VALUE=DURATION:PT1H
X-Robots-Tag:noindex
X-PUBLISHED-TTL:PT1H
BEGIN:VTIMEZONE
TZID:America/Sao_Paulo
BEGIN:STANDARD
TZOFFSETFROM:-0300
TZOFFSETTO:-0300
TZNAME:-03
DTSTART:20210101T000000
END:STANDARD
END:VTIMEZONE
BEGIN:VEVENT
DTSTART;VALUE=DATE:20210420
DTEND;VALUE=DATE:20210901
DTSTAMP:20260421T225246
CREATED:20210315T164645Z
LAST-MODIFIED:20210315T164645Z
UID:1506-1618876800-1630454399@pensamientocomplejo.org
SUMMARY:Educación para la sustentabilidad y la ciudadanía global
DESCRIPTION:Los invitamos a participar del «Programa de formación en educación para la sustentabilidad y la ciudadanía global – 2021» organizado por la Escuela de Educación de la Universidad de San Andrés\, Argentina. \nLa propuesta es 100% virtual y está destinada principalmente a educadores\, con el propósito de abordar algunos de los desafíos y oportunidades a la hora de promover una mirada transversal e interdisciplinaria de la sostenibilidad en las instituciones educativas\, que contribuya a la formación de ciudadanos conscientes de la dimensión global de las problemáticas vinculadas con la sostenibilidad\, y a la vez equipados para contribuir localmente de manera relevante a solucionar esas problemáticas. \nEsperamos contar con un grupo diverso de docentes de habla hispana (principalmente de escuelas)\, dispuestos a trabajar de manera asincrónica\, compartiendo experiencias\, reflexiones y respuestas a los estímulos ofrecidos. Esto se complementará con encuentros sincrónicos en los que esperamos fortalecer el sentido de pertenencia a una pequeña comunidad profesional de aprendizaje\, como intentamos construir en el precioso espacio de nuestro nodo. \nAgradecemos la difusión\, ya que estamos avanzando en el proceso de inscribir interesados y otorgar becas. \nMás información y formulario de pre-inscripción para los interesados en este enlace \nMuchas gracias
URL:https://pensamientocomplejo.org/evento/educacion-para-la-sustentabilidad-y-la-ciudadania-global/
LOCATION:Sesiones Virtuales (en linea)
CATEGORIES:Cursos y formación
ATTACH;FMTTYPE=image/jpeg:https://pensamientocomplejo.org/wp-content/uploads/2021/03/2021-EducacionSustentabilidadUdeSA-1.jpg
ORGANIZER;CN="Universidad de San Andr%C3%A9s":MAILTO:https://udesa.edu.ar/pes/programa-de-formacion-en-educacion-para-la-sustentabilidad-y-la-ciudadania-global
END:VEVENT
END:VCALENDAR