BEGIN:VCALENDAR
VERSION:2.0
PRODID:-//Comunidad de Pensamiento Complejo - ECPv6.2.9//NONSGML v1.0//EN
CALSCALE:GREGORIAN
METHOD:PUBLISH
X-ORIGINAL-URL:https://pensamientocomplejo.org
X-WR-CALDESC:Eventos para Comunidad de Pensamiento Complejo
REFRESH-INTERVAL;VALUE=DURATION:PT1H
X-Robots-Tag:noindex
X-PUBLISHED-TTL:PT1H
BEGIN:VTIMEZONE
TZID:America/Sao_Paulo
BEGIN:STANDARD
TZOFFSETFROM:-0300
TZOFFSETTO:-0300
TZNAME:-03
DTSTART:20220101T000000
END:STANDARD
END:VTIMEZONE
BEGIN:VEVENT
DTSTART;TZID=America/Sao_Paulo:20220817T100000
DTEND;TZID=America/Sao_Paulo:20220817T123000
DTSTAMP:20260423T012925
CREATED:20220815T163938Z
LAST-MODIFIED:20220815T165459Z
UID:2148-1660730400-1660739400@pensamientocomplejo.org
SUMMARY:Complejidad\, teatro\, política y salud
DESCRIPTION:«Complejidad\, teatro\, política y salud. \nDiálogos interdisciplinarios con Horacio Czertok» \nMiércoles 17 de agosto de 2022 – 10:00 a 12:30 hs  \n  \nCafé de conversación \nTenemos el agrado de invitarlos a participar de un encuentro de diálogo interdisciplinario con Horacio Czertok sobre «Complejidad\, teatro\, política y salud» que se realizará el miércoles 17 de agosto de 2022 en el Instituto de Investigaciones Gino Germani de la Universidad de Buenos Aires. \n  \nHoracio Czertok es un actor y dramaturgo argentino que dirige la compañía Teatro Núcleo\, iniciada en 1974 en Buenos Aires y re-fundada en el exilio en Ferrara\, Italia junto con Cora Herrendorf. Trabaja por extender la fuerza política del teatro fuera de los muros\, en calles\, plazas\, cárceles\, manicomios y universidades.  \n  \nMantendremos una conversación abierta e interactiva a través de la cual exploramos algunas relaciones cruciales de la experiencia político-estética de Teatro Núcleo: arte y salud\, arte y sociedad\, arte y política\, arte y pensamiento\, arte y emoción\, arte y violencia\, arte y comunicación\, arte y exilio\, arte y realidad\, arte y cambio social\, arte y subjetividad.  \n  \nPara inspirar nuestros diálogos habrá una mesa de café. Los invitamos a traer algo para compartir. \n  \n Miércoles 17 de agosto de 2022 – 10:00 a 12:30 hs \nInstituto de Investigaciones Gino Germani\, Universidad de Buenos Aires\, \nUriburu 950\, 6º piso\, Aula 1\, Ciudad de Buenos Aires \nhttps://goo.gl/maps/sPJRds4FcZBCCCvz5 \n  \nActividad libre y gratuita.\nSeguilo en directo por el facebook live de la CPC\nhttps://www.facebook.com/ComunidadCPC/ \n\nInvitan y organizan \n\n\n\nGrupo de Estudios sobre Interdisciplina y \nComplejidad en Ciencias Sociales (GEICCS)\nGrupo de Estudios en Comunicación y Salud (GECyS)
URL:https://pensamientocomplejo.org/evento/complejidad-teatro-politica-y-salud/
LOCATION:Sesiones Virtuales (en linea)
CATEGORIES:Seminario
END:VEVENT
END:VCALENDAR